Workbook
Name DSI: #REF!
Name Section: INDIRECT('Volume Calculator'!#REF!)
Name SSI: #REF!

Sheet Volume Calculator
L3: Additional resources (CAD files, installation guidance, etc) available at:
L4: StormTank.com
AC5: Instructions for entering the footprint & perimeter of non-rectangular StormTank bed designs
A6: Inputs | B6: Project Name: | R6: Dimensions | S6: Module Bed Dimensions | AC6: 1. Layout StormTank Modules in CAD using rectangular blocks 18" wide and 36" long
U7: Footprint: | V7: 7497 | Z7: ft2 | AC7: 2. Outline the perimeter of the StormTank Module bed with a polyline
M8: Date: | U8: Perimeter: | V8: 396 | Z8: ft | AC8: 3. Enter the area and perimeter of the Modules bed polyline in the Footprint and Perimeter fields listed under Module Bed Dimensions
AC9: 4. Offset the Module bed polyline by the intended stone side fill width (12" minimum) to create the outline of the excavation footprint
S10: Excavation Footprint | AC10: 5. Enter the area and perimeter of the excavation footprint polyline in the Footprint and Perimeter fields listed under Excavation Footprint
S11: to Edge of Stone Backfill
U12: Footprint: | V12: 7897 | Z12: ft2
M13: Height of Modules: | N13: 36 | P13: in | U13: Perimeter: | V13: 404 | Z13: ft
B14: Stone Storage Included:
F15: All | N15: Stone Porosity: | O15: 0.4 | S15: Stone Backfill Dimensions
W16: Stone Below Modules: | X16: 6 | Z16: in
M17: Bottom of Stone Elevation: | N17: 101 | P17: ft | W17: Stone Above Modules: | X17: 12 | Z17: in
M19: Number of Observation Ports | N19: 5 | S19: Typical stone dimensions:
S20: 6" below, 12" above, 12" side fill
M21: Number of Pipe Inlets Requiring Debris Row Section: | N21: 2
I23: Add Impermeable Liner to System: | J23: No
B24: Typical StormTank design does not require an impermeable liner
A26: Results
P27: StormTank Part Quantities:
H28: Storage Volume in Modules Only: | I28: =SUM(K51:N305) -> 21817.936 | L28: ft3 | U28: Bottom Layer | W28: Top Layer | Y28: Total
H29: Storage Volume in Stone Backfill: | I29: =SUM(O51:R305) -> 5218.2 | L29: ft3
H30: Total Storage Volume Provided: | I30: =I28+I29 -> 27036.136 | L30: ft3 | P30: Module Height (in) | U30: =HLOOKUP($N$13,'Reference Data'!$B$80:$L$82,2) -> 36 | W30: =HLOOKUP($N$13,'Reference Data'!$B$80:$L$82,3) -> N/A | Y30: =N13 -> 36
P31: # of Modules | U31: =Computations!B3 -> 1666 | W31: =IF($W$30="N/A","N/A",Computations!B3) -> N/A | Y31: =IF($W$30="N/A",U31,U31+W31) -> 1666
I32: Required Stone Backfill: | J32: =Computations!L7 -> 484 | L32: yd3 | P32: # of Platens | U32: =U31*2 -> 3332 | W32: =IF($W$30="N/A","N/A",W31*2) -> N/A | Y32: =IF($W$30="N/A",U32,U32+W32) -> 3332
P33: # of Side Panels | U33: =Computations!D3+N21*15 -> 294 | W33: =IF($W$30="N/A","N/A",Computations!D3) -> N/A | Y33: =IF($W$30="N/A",U33,U33+W33) -> 294
I34: Estimated Geotextile - Outside of Modules | J34: =Computations!A11 -> 1998 | L34: yd2 | P34: # of Columns | U34: =U31*8 -> 13328 | W34: =IF($W$30="N/A","N/A",W31*8) -> N/A | Y34: =IF($W$30="N/A",U34,U34+W34) -> 13328
I35: Estimated Geotextile - Outside of Stone | J35: =Computations!B11 -> 2175 | L35: yd2 | P35: # of Stacking Pins | U35: =IF($W$30="N/A",0,U31*2) -> 0 | W35: N/A | Y35: =U35 -> 0
I36: Total Estimated Geotextile Fabric: | J36: =J35+J34 -> 4173 | L36: yd2 | P36: # of 10" Port Kit(s) | U36: =N19 -> 5 | W36: N/A | Y36: =U36 -> 5
I38: Estimated Impermeable Liner | J38: =Computations!C11+Computations!E11 -> 0 | L38: yd2
W39: Maximum Grade (96" from top of Module to grade): | X39: =$N$17+$X$16/12+$N$13/12+96/12 -> 112.5
W40: Min Grade (HS-25 Loading, 24" from top of Module to grade): | X40: =$N$17+$X$16/12+$N$13/12+24/12 -> 106.5
W41: Min Grade (HS-20 Loading, 21" from top of Module to grade): | X41: =$N$17+$X$16/12+$N$13/12+21/12 -> 106.25
W42: Top of Stone: | X42: =$N$17+$X$16/12+$N$13/12+$X$17/12 -> 105.5
W43: Top of Module: | X43: =$N$17+$X$16/12+$N$13/12 -> 104.5
W44: Bottom of Module: | X44: =$N$17+$X$16/12 -> 101.5
W45: Bottom of Stone: | X45: =$N$17 -> 101
A48: Stage Storage
A49: Height of System | E49: Stage | H49: Elevation | K49: Incremental Module Storage | O49: Incremental Stone Storage | S49: Module & Stone Stage Storage | W49: Cumulative System Volume
A50: (in) | E50: (ft) | H50: (ft) | K50: (ft3) | O50: (ft3) | S50: (ft3) | W50: (ft3)
A51: =$N$13+$X$16+$X$17 -> 54 | E51: =IF(A51>=1,A51/12,0) -> 4.5 | H51: =IF(A51>=0,$N$17+E51,0) -> 105.5 | K51: {=IF(A51>=1,_xlfn.IFS($A$51-A51<$X$17,0,AND($A$51-A51>=$X$17,A51>$X$16),$V$7*Computations!$I$3*1/12,A51<=$X$16,0),0)} -> 0 | O51: {=IF(A51>=1,_xlfn.IFS(AND($A$51-A51<$X$17,$F$15="Excluding Above"),0,AND($A$51-A51<$X$17,$F$15<>"Excluding Above"),Computations!$A$7*Computations!$J$7*1/12,AND($A$51-A51>=$X$17,A51>$X$16),(Computations!$A$7-Computations!$A$3)*Computations!$J$7*1/12,AND(A51<=$X$16,$F$15<>"Excluding Below"),Computations!$A$7*Computations!$J$7*1/12,AND(A51<=$X$16,$F$15="Excluding Below"),0),0)} -> 263.23333 | S51: =IF(A51>=1,O51+K51,0) -> 263.23333 | W51: =IF(A51>=1,W52+S51,0) -> 27036.136 | AA51: <= Top of Stone
A52: {=_xlfn.IFS(A51>1,A51-1,A51=1,0,A51=0,-999,A51=-999,0-999)} -> 53 | E52: =IF(A52>=1,A52/12,0) -> 4.4166667 | H52: =IF(A52>=0,$N$17+E52,0) -> 105.41667 | K52: {=IF(A52>=1,_xlfn.IFS($A$51-A52<$X$17,0,AND($A$51-A52>=$X$17,A52>$X$16),$V$7*Computations!$I$3*1/12,A52<=$X$16,0),0)} -> 0 | O52: {=IF(A52>=1,_xlfn.IFS(AND($A$51-A52<$X$17,$F$15="Excluding Above"),0,AND($A$51-A52<$X$17,$F$15<>"Excluding Above"),Computations!$A$7*Computations!$J$7*1/12,AND($A$51-A52>=$X$17,A52>$X$16),(Computations!$A$7-Computations!$A$3)*Computations!$J$7*1/12,AND(A52<=$X$16,$F$15<>"Excluding Below"),Computations!$A$7*Computations!$J$7*1/12,AND(A52<=$X$16,$F$15="Excluding Below"),0),0)} -> 263.23333 | S52: =IF(A52>=1,O52+K52,0) -> 263.23333 | W52: =IF(A52>=1,W53+S52,0) -> 26772.903 | AA52: {=_xlfn.IFS($A$51-A52=$X$17,"<=Top of Module",A52=$X$16,"<=Bottom of Module",A52=0,"<=Bottom of Stone",AND($A$51-A52<>$X$17,A52<>$X$16,A52<>0),"")}
A53: {=_xlfn.IFS(A52>1,A52-1,A52=1,0,A52=0,-999,A52=-999,0-999)} -> 52 | E53: =IF(A53>=1,A53/12,0) -> 4.3333333 | H53: =IF(A53>=0,$N$17+E53,0) -> 105.33333 | K53: {=IF(A53>=1,_xlfn.IFS($A$51-A53<$X$17,0,AND($A$51-A53>=$X$17,A53>$X$16),$V$7*Computations!$I$3*1/12,A53<=$X$16,0),0)} -> 0 | O53: {=IF(A53>=1,_xlfn.IFS(AND($A$51-A53<$X$17,$F$15="Excluding Above"),0,AND($A$51-A53<$X$17,$F$15<>"Excluding Above"),Computations!$A$7*Computations!$J$7*1/12,AND($A$51-A53>=$X$17,A53>$X$16),(Computations!$A$7-Computations!$A$3)*Computations!$J$7*1/12,AND(A53<=$X$16,$F$15<>"Excluding Below"),Computations!$A$7*Computations!$J$7*1/12,AND(A53<=$X$16,$F$15="Excluding Below"),0),0)} -> 263.23333 | S53: =IF(A53>=1,O53+K53,0) -> 263.23333 | W53: =IF(A53>=1,W54+S53,0) -> 26509.669 | AA53: {=_xlfn.IFS($A$51-A53=$X$17,"<=Top of Module",A53=$X$16,"<=Bottom of Module",A53=0,"<=Bottom of Stone",AND($A$51-A53<>$X$17,A53<>$X$16,A53<>0),"")}
A54: {=_xlfn.IFS(A53>1,A53-1,A53=1,0,A53=0,-999,A53=-999,0-999)} -> 51 | E54: =IF(A54>=1,A54/12,0) -> 4.25 | H54: =IF(A54>=0,$N$17+E54,0) -> 105.25 | K54: {=IF(A54>=1,_xlfn.IFS($A$51-A54<$X$17,0,AND($A$51-A54>=$X$17,A54>$X$16),$V$7*Computations!$I$3*1/12,A54<=$X$16,0),0)} -> 0 | O54: {=IF(A54>=1,_xlfn.IFS(AND($A$51-A54<$X$17,$F$15="Excluding Above"),0,AND($A$51-A54<$X$17,$F$15<>"Excluding Above"),Computations!$A$7*Computations!$J$7*1/12,AND($A$51-A54>=$X$17,A54>$X$16),(Computations!$A$7-Computations!$A$3)*Computations!$J$7*1/12,AND(A54<=$X$16,$F$15<>"Excluding Below"),Computations!$A$7*Computations!$J$7*1/12,AND(A54<=$X$16,$F$15="Excluding Below"),0),0)} -> 263.23333 | S54: =IF(A54>=1,O54+K54,0) -> 263.23333 | W54: =IF(A54>=1,W55+S54,0) -> 26246.436 | AA54: {=_xlfn.IFS($A$51-A54=$X$17,"<=Top of Module",A54=$X$16,"<=Bottom of Module",A54=0,"<=Bottom of Stone",AND($A$51-A54<>$X$17,A54<>$X$16,A54<>0),"")}
A55: {=_xlfn.IFS(A54>1,A54-1,A54=1,0,A54=0,-999,A54=-999,0-999)} -> 50 | E55: =IF(A55>=1,A55/12,0) -> 4.1666667 | H55: =IF(A55>=0,$N$17+E55,0) -> 105.16667 | K55: {=IF(A55>=1,_xlfn.IFS($A$51-A55<$X$17,0,AND($A$51-A55>=$X$17,A55>$X$16),$V$7*Computations!$I$3*1/12,A55<=$X$16,0),0)} -> 0 | O55: {=IF(A55>=1,_xlfn.IFS(AND($A$51-A55<$X$17,$F$15="Excluding Above"),0,AND($A$51-A55<$X$17,$F$15<>"Excluding Above"),Computations!$A$7*Computations!$J$7*1/12,AND($A$51-A55>=$X$17,A55>$X$16),(Computations!$A$7-Computations!$A$3)*Computations!$J$7*1/12,AND(A55<=$X$16,$F$15<>"Excluding Below"),Computations!$A$7*Computations!$J$7*1/12,AND(A55<=$X$16,$F$15="Excluding Below"),0),0)} -> 263.23333 | S55: =IF(A55>=1,O55+K55,0) -> 263.23333 | W55: =IF(A55>=1,W56+S55,0) -> 25983.203 | AA55: {=_xlfn.IFS($A$51-A55=$X$17,"<=Top of Module",A55=$X$16,"<=Bottom of Module",A55=0,"<=Bottom of Stone",AND($A$51-A55<>$X$17,A55<>$X$16,A55<>0),"")}
A56: {=_xlfn.IFS(A55>1,A55-1,A55=1,0,A55=0,-999,A55=-999,0-999)} -> 49 | E56: =IF(A56>=1,A56/12,0) -> 4.0833333 | H56: =IF(A56>=0,$N$17+E56,0) -> 105.08333 | K56: {=IF(A56>=1,_xlfn.IFS($A$51-A56<$X$17,0,AND($A$51-A56>=$X$17,A56>$X$16),$V$7*Computations!$I$3*1/12,A56<=$X$16,0),0)} -> 0 | O56: {=IF(A56>=1,_xlfn.IFS(AND($A$51-A56<$X$17,$F$15="Excluding Above"),0,AND($A$51-A56<$X$17,$F$15<>"Excluding Above"),Computations!$A$7*Computations!$J$7*1/12,AND($A$51-A56>=$X$17,A56>$X$16),(Computations!$A$7-Computations!$A$3)*Computations!$J$7*1/12,AND(A56<=$X$16,$F$15<>"Excluding Below"),Computations!$A$7*Computations!$J$7*1/12,AND(A56<=$X$16,$F$15="Excluding Below"),0),0)} -> 263.23333 | S56: =IF(A56>=1,O56+K56,0) -> 263.23333 | W56: =IF(A56>=1,W57+S56,0) -> 25719.969 | AA56: {=_xlfn.IFS($A$51-A56=$X$17,"<=Top of Module",A56=$X$16,"<=Bottom of Module",A56=0,"<=Bottom of Stone",AND($A$51-A56<>$X$17,A56<>$X$16,A56<>0),"")}
A57: {=_xlfn.IFS(A56>1,A56-1,A56=1,0,A56=0,-999,A56=-999,0-999)} -> 48 | E57: =IF(A57>=1,A57/12,0) -> 4 | H57: =IF(A57>=0,$N$17+E57,0) -> 105 | K57: {=IF(A57>=1,_xlfn.IFS($A$51-A57<$X$17,0,AND($A$51-A57>=$X$17,A57>$X$16),$V$7*Computations!$I$3*1/12,A57<=$X$16,0),0)} -> 0 | O57: {=IF(A57>=1,_xlfn.IFS(AND($A$51-A57<$X$17,$F$15="Excluding Above"),0,AND($A$51-A57<$X$17,$F$15<>"Excluding Above"),Computations!$A$7*Computations!$J$7*1/12,AND($A$51-A57>=$X$17,A57>$X$16),(Computations!$A$7-Computations!$A$3)*Computations!$J$7*1/12,AND(A57<=$X$16,$F$15<>"Excluding Below"),Computations!$A$7*Computations!$J$7*1/12,AND(A57<=$X$16,$F$15="Excluding Below"),0),0)} -> 263.23333 | S57: =IF(A57>=1,O57+K57,0) -> 263.23333 | W57: =IF(A57>=1,W58+S57,0) -> 25456.736 | AA57: {=_xlfn.IFS($A$51-A57=$X$17,"<=Top of Module",A57=$X$16,"<=Bottom of Module",A57=0,"<=Bottom of Stone",AND($A$51-A57<>$X$17,A57<>$X$16,A57<>0),"")}
A58: {=_xlfn.IFS(A57>1,A57-1,A57=1,0,A57=0,-999,A57=-999,0-999)} -> 47 | E58: =IF(A58>=1,A58/12,0) -> 3.9166667 | H58: =IF(A58>=0,$N$17+E58,0) -> 104.91667 | K58: {=IF(A58>=1,_xlfn.IFS($A$51-A58<$X$17,0,AND($A$51-A58>=$X$17,A58>$X$16),$V$7*Computations!$I$3*1/12,A58<=$X$16,0),0)} -> 0 | O58: {=IF(A58>=1,_xlfn.IFS(AND($A$51-A58<$X$17,$F$15="Excluding Above"),0,AND($A$51-A58<$X$17,$F$15<>"Excluding Above"),Computations!$A$7*Computations!$J$7*1/12,AND($A$51-A58>=$X$17,A58>$X$16),(Computations!$A$7-Computations!$A$3)*Computations!$J$7*1/12,AND(A58<=$X$16,$F$15<>"Excluding Below"),Computations!$A$7*Computations!$J$7*1/12,AND(A58<=$X$16,$F$15="Excluding Below"),0),0)} -> 263.23333 | S58: =IF(A58>=1,O58+K58,0) -> 263.23333 | W58: =IF(A58>=1,W59+S58,0) -> 25193.503 | AA58: {=_xlfn.IFS($A$51-A58=$X$17,"<=Top of Module",A58=$X$16,"<=Bottom of Module",A58=0,"<=Bottom of Stone",AND($A$51-A58<>$X$17,A58<>$X$16,A58<>0),"")}
A59: {=_xlfn.IFS(A58>1,A58-1,A58=1,0,A58=0,-999,A58=-999,0-999)} -> 46 | E59: =IF(A59>=1,A59/12,0) -> 3.8333333 | H59: =IF(A59>=0,$N$17+E59,0) -> 104.83333 | K59: {=IF(A59>=1,_xlfn.IFS($A$51-A59<$X$17,0,AND($A$51-A59>=$X$17,A59>$X$16),$V$7*Computations!$I$3*1/12,A59<=$X$16,0),0)} -> 0 | O59: {=IF(A59>=1,_xlfn.IFS(AND($A$51-A59<$X$17,$F$15="Excluding Above"),0,AND($A$51-A59<$X$17,$F$15<>"Excluding Above"),Computations!$A$7*Computations!$J$7*1/12,AND($A$51-A59>=$X$17,A59>$X$16),(Computations!$A$7-Computations!$A$3)*Computations!$J$7*1/12,AND(A59<=$X$16,$F$15<>"Excluding Below"),Computations!$A$7*Computations!$J$7*1/12,AND(A59<=$X$16,$F$15="Excluding Below"),0),0)} -> 263.23333 | S59: =IF(A59>=1,O59+K59,0) -> 263.23333 | W59: =IF(A59>=1,W60+S59,0) -> 24930.269 | AA59: {=_xlfn.IFS($A$51-A59=$X$17,"<=Top of Module",A59=$X$16,"<=Bottom of Module",A59=0,"<=Bottom of Stone",AND($A$51-A59<>$X$17,A59<>$X$16,A59<>0),"")}
A60: {=_xlfn.IFS(A59>1,A59-1,A59=1,0,A59=0,-999,A59=-999,0-999)} -> 45 | E60: =IF(A60>=1,A60/12,0) -> 3.75 | H60: =IF(A60>=0,$N$17+E60,0) -> 104.75 | K60: {=IF(A60>=1,_xlfn.IFS($A$51-A60<$X$17,0,AND($A$51-A60>=$X$17,A60>$X$16),$V$7*Computations!$I$3*1/12,A60<=$X$16,0),0)} -> 0 | O60: {=IF(A60>=1,_xlfn.IFS(AND($A$51-A60<$X$17,$F$15="Excluding Above"),0,AND($A$51-A60<$X$17,$F$15<>"Excluding Above"),Computations!$A$7*Computations!$J$7*1/12,AND($A$51-A60>=$X$17,A60>$X$16),(Computations!$A$7-Computations!$A$3)*Computations!$J$7*1/12,AND(A60<=$X$16,$F$15<>"Excluding Below"),Computations!$A$7*Computations!$J$7*1/12,AND(A60<=$X$16,$F$15="Excluding Below"),0),0)} -> 263.23333 | S60: =IF(A60>=1,O60+K60,0) -> 263.23333 | W60: =IF(A60>=1,W61+S60,0) -> 24667.036 | AA60: {=_xlfn.IFS($A$51-A60=$X$17,"<=Top of Module",A60=$X$16,"<=Bottom of Module",A60=0,"<=Bottom of Stone",AND($A$51-A60<>$X$17,A60<>$X$16,A60<>0),"")}
A61: {=_xlfn.IFS(A60>1,A60-1,A60=1,0,A60=0,-999,A60=-999,0-999)} -> 44 | E61: =IF(A61>=1,A61/12,0) -> 3.6666667 | H61: =IF(A61>=0,$N$17+E61,0) -> 104.66667 | K61: {=IF(A61>=1,_xlfn.IFS($A$51-A61<$X$17,0,AND($A$51-A61>=$X$17,A61>$X$16),$V$7*Computations!$I$3*1/12,A61<=$X$16,0),0)} -> 0 | O61: {=IF(A61>=1,_xlfn.IFS(AND($A$51-A61<$X$17,$F$15="Excluding Above"),0,AND($A$51-A61<$X$17,$F$15<>"Excluding Above"),Computations!$A$7*Computations!$J$7*1/12,AND($A$51-A61>=$X$17,A61>$X$16),(Computations!$A$7-Computations!$A$3)*Computations!$J$7*1/12,AND(A61<=$X$16,$F$15<>"Excluding Below"),Computations!$A$7*Computations!$J$7*1/12,AND(A61<=$X$16,$F$15="Excluding Below"),0),0)} -> 263.23333 | S61: =IF(A61>=1,O61+K61,0) -> 263.23333 | W61: =IF(A61>=1,W62+S61,0) -> 24403.803 | AA61: {=_xlfn.IFS($A$51-A61=$X$17,"<=Top of Module",A61=$X$16,"<=Bottom of Module",A61=0,"<=Bottom of Stone",AND($A$51-A61<>$X$17,A61<>$X$16,A61<>0),"")}
A62: {=_xlfn.IFS(A61>1,A61-1,A61=1,0,A61=0,-999,A61=-999,0-999)} -> 43 | E62: =IF(A62>=1,A62/12,0) -> 3.5833333 | H62: =IF(A62>=0,$N$17+E62,0) -> 104.58333 | K62: {=IF(A62>=1,_xlfn.IFS($A$51-A62<$X$17,0,AND($A$51-A62>=$X$17,A62>$X$16),$V$7*Computations!$I$3*1/12,A62<=$X$16,0),0)} -> 0 | O62: {=IF(A62>=1,_xlfn.IFS(AND($A$51-A62<$X$17,$F$15="Excluding Above"),0,AND($A$51-A62<$X$17,$F$15<>"Excluding Above"),Computations!$A$7*Computations!$J$7*1/12,AND($A$51-A62>=$X$17,A62>$X$16),(Computations!$A$7-Computations!$A$3)*Computations!$J$7*1/12,AND(A62<=$X$16,$F$15<>"Excluding Below"),Computations!$A$7*Computations!$J$7*1/12,AND(A62<=$X$16,$F$15="Excluding Below"),0),0)} -> 263.23333 | S62: =IF(A62>=1,O62+K62,0) -> 263.23333 | W62: =IF(A62>=1,W63+S62,0) -> 24140.569 | AA62: {=_xlfn.IFS($A$51-A62=$X$17,"<=Top of Module",A62=$X$16,"<=Bottom of Module",A62=0,"<=Bottom of Stone",AND($A$51-A62<>$X$17,A62<>$X$16,A62<>0),"")}
A63: {=_xlfn.IFS(A62>1,A62-1,A62=1,0,A62=0,-999,A62=-999,0-999)} -> 42 | E63: =IF(A63>=1,A63/12,0) -> 3.5 | H63: =IF(A63>=0,$N$17+E63,0) -> 104.5 | K63: {=IF(A63>=1,_xlfn.IFS($A$51-A63<$X$17,0,AND($A$51-A63>=$X$17,A63>$X$16),$V$7*Computations!$I$3*1/12,A63<=$X$16,0),0)} -> 606.05378 | O63: {=IF(A63>=1,_xlfn.IFS(AND($A$51-A63<$X$17,$F$15="Excluding Above"),0,AND($A$51-A63<$X$17,$F$15<>"Excluding Above"),Computations!$A$7*Computations!$J$7*1/12,AND($A$51-A63>=$X$17,A63>$X$16),(Computations!$A$7-Computations!$A$3)*Computations!$J$7*1/12,AND(A63<=$X$16,$F$15<>"Excluding Below"),Computations!$A$7*Computations!$J$7*1/12,AND(A63<=$X$16,$F$15="Excluding Below"),0),0)} -> 13.333333 | S63: =IF(A63>=1,O63+K63,0) -> 619.38711 | W63: =IF(A63>=1,W64+S63,0) -> 23877.336 | AA63: {=_xlfn.IFS($A$51-A63=$X$17,"<=Top of Module",A63=$X$16,"<=Bottom of Module",A63=0,"<=Bottom of Stone",AND($A$51-A63<>$X$17,A63<>$X$16,A63<>0),"")} -> <=Top of Module
... A305: {=_xlfn.IFS(A304>1,A304-1,A304=1,0,A304=0,-999,A304=-999,0-999)} -> -999 | E305: =IF(A305>=1,A305/12,0) -> 0 | H305: =IF(A305>=0,$N$17+E305,0) -> 0 | K305: {=IF(A305>=1,_xlfn.IFS($A$51-A305<$X$17,0,AND($A$51-A305>=$X$17,A305>$X$16),$V$7*Computations!$I$3*1/12,A305<=$X$16,0),0)} -> 0 | O305: {=IF(A305>=1,_xlfn.IFS(AND($A$51-A305<$X$17,$F$15="Excluding Above"),0,AND($A$51-A305<$X$17,$F$15<>"Excluding Above"),Computations!$A$7*Computations!$J$7*1/12,AND($A$51-A305>=$X$17,A305>$X$16),(Computations!$A$7-Computations!$A$3)*Computations!$J$7*1/12,AND(A305<=$X$16,$F$15<>"Excluding Below"),Computations!$A$7*Computations!$J$7*1/12,AND(A305<=$X$16,$F$15="Excluding Below"),0),0)} -> 0 | S305: =IF(A305>=1,O305+K305,0) -> 0 | W305: =IF(A305>=1,W306+S305,0) -> 0 | AA305: {=_xlfn.IFS($A$51-A305=$X$17,"<=Top of Module",A305=$X$16,"<=Bottom of Module",A305=0,"<=Bottom of Stone",AND($A$51-A305<>$X$17,A305<>$X$16,A305<>0),"")}

Sheet Computations
A1: Module Footprint | B1: Module Count | C1: Module Perimeter | D1: Side Panel Count | E1: Module Height | F1: Module Capacity | G1: Total Module Storage Volume | H1: Volume of Module Bed | I1: Module Void Space
A2: ft2 | B2: # | C2: ft | D2: # | E2: in | F2: ft3 | G2: ft^3 | H2: ft^3 | I2: %
A3: ='Volume Calculator'!V7 -> 7497 | B3: =ROUNDDOWN(A3/4.5,0) -> 1666 | C3: ='Volume Calculator'!V8 -> 396 | D3: =C3/1.5 -> 264 | E3: ='Volume Calculator'!N13 -> 36 | F3: =HLOOKUP(E3,'Reference Data'!B77:L78,2) -> 13.096 | G3: =F3*B3 -> 21817.936 | H3: =E3*A3/12 -> 22491 | I3: =G3/H3 -> 0.97007407
A5: Stone Footprint | B5: Stone Perimeter | C5: Height from Bottom to Top of Stone | D5: Stone Porosity | E5: 100% System Volume to Outside of Stone | F5: Counted Stone Volume (Minus Top, Before Void Ratio) | G5: Counted Stone Volume (None) | H5: Counted Stone Volume (Minus Bottom, Before Void Ratio) | I5: Just Stone Volume at 100% Voids | J5: Stone Void % | K5: Counted Storage Volume in Stone with Void Ratio | L5: Required Stone Backfill
A6: ft2 | B6: ft | C6: ft | D6: % | E6: ft3 | F6: ft3 | G6: ft3 | H6: ft3 | I6: ft3 | L6: yd3
A7: ='Volume Calculator'!V12 -> 7897 | B7: ='Volume Calculator'!V13 -> 404 | C7: =('Volume Calculator'!N13+'Volume Calculator'!X16+'Volume Calculator'!X17)/12 -> 4.5 | D7: =IF('Volume Calculator'!J23<>"Yes - Outside of Modules",'Volume Calculator'!O15,0) -> 0.4 | E7: =A7*C7 -> 35536.5 | F7: =E7-(A7*'Volume Calculator'!X17/12) -> 27639.5 | G7: 0 | H7: =E7-(A7*'Volume Calculator'!X16/12) -> 31588 | I7: {=_xlfn.IFS('Volume Calculator'!F15="All",Computations!E7-Computations!H3,'Volume Calculator'!F15="Excluding Below",Computations!H7-Computations!H3,'Volume Calculator'!F15="Excluding Above",Computations!F7-Computations!H3,'Volume Calculator'!F15="None",0)} -> 13045.5 | J7: {=IF(AND('Volume Calculator'!J23<>"Yes - Outside of Modules",'Volume Calculator'!F15:I15<>"None"),'Volume Calculator'!O15,0)} -> 0.4 | K7: =I7*J7 -> 5218.2 | L7: =ROUNDUP((Computations!E7-Computations!H3)/27,0) -> 484
A9: Geotextile Around Modules | B9: Geotextile Around Stone | C9: Estimated Imp. Liner - Outside of Stone | E9: Estimated Imp. Liner - Outside of Modules
A10: yd2 | B10: yd2 | C10: yd2 | E10: yd2
A11: {=_xlfn.IFS('Volume Calculator'!J23="No",(ROUNDUP(((A3*2+C3*E3/12)/0.9)/9,0)),'Volume Calculator'!J23="Yes - Outside of Stone",(ROUNDUP(((A3*2+C3*E3/12)/0.9)/9,0)),'Volume Calculator'!J23="Yes - Outside of Modules",(ROUNDUP(((A3*2+C3*E3/12)/0.9)/9,0)*2))} -> 1998 | B11: {=_xlfn.IFS('Volume Calculator'!J23="No",(ROUNDUP(((A7*2+B7*C7)/0.9)/9,0)),'Volume Calculator'!J23="Yes - Outside of Stone",(ROUNDUP(((A7*2+B7*C7)/0.9)/9,0)*2),'Volume Calculator'!J23="Yes - Outside of Modules",(ROUNDUP(((A7*2+B7*C7)/0.9)/9,0)))} -> 2175 | C11: {=_xlfn.IFS('Volume Calculator'!J23="No",0,'Volume Calculator'!J23="Yes - Outside of Stone",(ROUNDUP(((A7*2+B7*C7)/0.9)/9,0)),'Volume Calculator'!J23="Yes - Outside of Modules",0)} -> 0 | E11: {=_xlfn.IFS('Volume Calculator'!J23="No",0,'Volume Calculator'!J23="Yes - Outside of Stone",0,'Volume Calculator'!J23="Yes - Outside of Modules",(ROUNDUP(((A3*2+C3*E3/12)/0.9)/9,0)))} -> 0

Sheet Reference Data
A1: Module Stage Storage Per Inch
A2: Height (in) | B2: 12 | C2: 18 | D2: =C2+6 -> 24 | E2: =D2+6 -> 30 | F2: =E2+6 -> 36 | G2: =F2+6 -> 42 | H2: =G2+6 -> 48 | I2: =H2+6 -> 54 | J2: =I2+6 -> 60 | K2: =J2+6 -> 66 | L2: =K2+6 -> 72
A3: 72 | L3: 0.284
A4: 71 | L4: 0.344
A5: 70 | L5: 0.37
A6: 69 | L6: 0.37
A7: 68 | L7: 0.37
A8: 67 | L8: 0.37
A9: 66 | K9: 0.284 | L9: 0.37
A10: 65 | K10: 0.344 | L10: 0.37
A11: 64 | K11: 0.37 | L11: 0.37
A12: 63 | K12: 0.37 | L12: 0.37
A13: 62 | K13: 0.37 | L13: 0.37
A14: 61 | K14: 0.37 | L14: 0.37
A15: 60 | J15: 0.284 | K15: 0.37 | L15: 0.37
A16: 59 | J16: 0.344 | K16: 0.37 | L16: 0.37
A17: 58 | J17: 0.37 | K17: 0.37 | L17: 0.37
A18: 57 | J18: 0.37 | K18: 0.37 | L18: 0.37
A19: 56 | J19: 0.37 | K19: 0.37 | L19: 0.37
A20: 55 | J20: 0.37 | K20: 0.37 | L20: 0.37
A21: 54 | I21: 0.284 | J21: 0.37 | K21: 0.37 | L21: 0.37
A22: 53 | I22: 0.344 | J22: 0.37 | K22: 0.37 | L22: 0.37
A23: 52 | I23: 0.37 | J23: 0.37 | K23: 0.37 | L23: 0.37
A24: 51 | I24: 0.37 | J24: 0.37 | K24: 0.37 | L24: 0.37
A25: 50 | I25: 0.37 | J25: 0.37 | K25: 0.37 | L25: 0.37
A26: 49 | I26: 0.37 | J26: 0.37 | K26: 0.37 | L26: 0.37
A27: 48 | H27: 0.284 | I27: 0.37 | J27: 0.37 | K27: 0.37 | L27: 0.37
A28: 47 | H28: 0.344 | I28: 0.37 | J28: 0.37 | K28: 0.37 | L28: 0.37
A29: 46 | H29: 0.37 | I29: 0.37 | J29: 0.37 | K29: 0.37 | L29: 0.37
A30: 45 | H30: 0.37 | I30: 0.37 | J30: 0.37 | K30: 0.37 | L30: 0.37
A31: 44 | H31: 0.37 | I31: 0.37 | J31: 0.37 | K31: 0.37 | L31: 0.37
A32: 43 | H32: 0.37 | I32: 0.37 | J32: 0.37 | K32: 0.37 | L32: 0.37
A33: 42 | G33: 0.284 | H33: 0.37 | I33: 0.37 | J33: 0.37 | K33: 0.37 | L33: 0.37
A34: 41 | G34: 0.344 | H34: 0.37 | I34: 0.37 | J34: 0.37 | K34: 0.37 | L34: 0.37
A35: 40 | G35: 0.37 | H35: 0.37 | I35: 0.37 | J35: 0.37 | K35: 0.37 | L35: 0.37
A36: 39 | G36: 0.37 | H36: 0.37 | I36: 0.37 | J36: 0.37 | K36: 0.37 | L36: 0.37
A37: 38 | G37: 0.37 | H37: 0.37 | I37: 0.37 | J37: 0.37 | K37: 0.37 | L37: 0.344
A38: 37 | G38: 0.37 | H38: 0.37 | I38: 0.37 | J38: 0.37 | K38: 0.37 | L38: 0.284
A39: 36 | F39: 0.284 | G39: 0.37 | H39: 0.37 | I39: 0.37 | J39: 0.37 | K39: 0.37 | L39: 0.284
A40: 35 | F40: 0.344 | G40: 0.37 | H40: 0.37 | I40: 0.37 | J40: 0.37 | K40: 0.37 | L40: 0.344
A41: 34 | F41: 0.37 | G41: 0.37 | H41: 0.37 | I41: 0.37 | J41: 0.37 | K41: 0.37 | L41: 0.37
A42: 33 | F42: 0.37 | G42: 0.37 | H42: 0.37 | I42: 0.37 | J42: 0.37 | K42: 0.37 | L42: 0.37
A43: 32 | F43: 0.37 | G43: 0.37 | H43: 0.37 | I43: 0.37 | J43: 0.37 | K43: 0.344 | L43: 0.37
A44: 31 | F44: 0.37 | G44: 0.37 | H44: 0.37 | I44: 0.37 | J44: 0.37 | K44: 0.284 | L44: 0.37
A45: 30 | E45: 0.284 | F45: 0.37 | G45: 0.37 | H45: 0.37 | I45: 0.37 | J45: 0.37 | K45: 0.284 | L45: 0.37
A46: 29 | E46: 0.344 | F46: 0.37 | G46: 0.37 | H46: 0.37 | I46: 0.37 | J46: 0.37 | K46: 0.344 | L46: 0.37
A47: 28 | E47: 0.37 | F47: 0.37 | G47: 0.37 | H47: 0.37 | I47: 0.37 | J47: 0.37 | K47: 0.37 | L47: 0.37
A48: 27 | E48: 0.37 | F48: 0.37 | G48: 0.37 | H48: 0.37 | I48: 0.37 | J48: 0.37 | K48: 0.37 | L48: 0.37
A49: 26 | E49: 0.37 | F49: 0.37 | G49: 0.37 | H49: 0.37 | I49: 0.37 | J49: 0.344 | K49: 0.37 | L49: 0.37
A50: 25 | E50: 0.37 | F50: 0.37 | G50: 0.37 | H50: 0.37 | I50: 0.37 | J50: 0.284 | K50: 0.37 | L50: 0.37
A51: 24 | D51: 0.284 | E51: 0.37 | F51: 0.37 | G51: 0.37 | H51: 0.37 | I51: 0.37 | J51: 0.284 | K51: 0.37 | L51: 0.37
A52: 23 | D52: 0.344 | E52: 0.37 | F52: 0.37 | G52: 0.37 | H52: 0.37 | I52: 0.37 | J52: 0.344 | K52: 0.37 | L52: 0.37
A53: 22 | D53: 0.37 | E53: 0.37 | F53: 0.37 | G53: 0.37 | H53: 0.37 | I53: 0.37 | J53: 0.37 | K53: 0.37 | L53: 0.37
A54: 21 | D54: 0.37 | E54: 0.37 | F54: 0.37 | G54: 0.37 | H54: 0.37 | I54: 0.37 | J54: 0.37 | K54: 0.37 | L54: 0.37
A55: 20 | D55: 0.37 | E55: 0.37 | F55: 0.37 | G55: 0.344 | H55: 0.344 | I55: 0.344 | J55: 0.37 | K55: 0.37 | L55: 0.37
A56: 19 | D56: 0.37 | E56: 0.37 | F56: 0.37 | G56: 0.284 | H56: 0.284 | I56: 0.284 | J56: 0.37 | K56: 0.37 | L56: 0.37
A57: 18 | C57: 0.284 | D57: 0.37 | E57: 0.37 | F57: 0.37 | G57: 0.284 | H57: 0.284 | I57: 0.284 | J57: 0.37 | K57: 0.37 | L57: 0.37
A58: 17 | C58: 0.344 | D58: 0.37 | E58: 0.37 | F58: 0.37 | G58: 0.344 | H58: 0.344 | I58: 0.344 | J58: 0.37 | K58: 0.37 | L58: 0.37
A59: 16 | C59: 0.37 | D59: 0.37 | E59: 0.37 | F59: 0.37 | G59: 0.37 | H59: 0.37 | I59: 0.37 | J59: 0.37 | K59: 0.37 | L59: 0.37
A60: 15 | C60: 0.37 | D60: 0.37 | E60: 0.37 | F60: 0.37 | G60: 0.37 | H60: 0.37 | I60: 0.37 | J60: 0.37 | K60: 0.37 | L60: 0.37
A61: 14 | C61: 0.37 | D61: 0.37 | E61: 0.37 | F61: 0.37 | G61: 0.37 | H61: 0.37 | I61: 0.37 | J61: 0.37 | K61: 0.37 | L61: 0.37
A62: 13 | C62: 0.37 | D62: 0.37 | E62: 0.37 | F62: 0.37 | G62: 0.37 | H62: 0.37 | I62: 0.37 | J62: 0.37 | K62: 0.37 | L62: 0.37
A63: 12 | B63: 0.284 | C63: 0.37 | D63: 0.37 | E63: 0.37 | F63: 0.37 | G63: 0.37 | H63: 0.37 | I63: 0.37 | J63: 0.37 | K63: 0.37 | L63: 0.37
A64: 11 | B64: 0.344 | C64: 0.37 | D64: 0.37 | E64: 0.37 | F64: 0.37 | G64: 0.37 | H64: 0.37 | I64: 0.37 | J64: 0.37 | K64: 0.37 | L64: 0.37
A65: 10 | B65: 0.37 | C65: 0.37 | D65: 0.37 | E65: 0.37 | F65: 0.37 | G65: 0.37 | H65: 0.37 | I65: 0.37 | J65: 0.37 | K65: 0.37 | L65: 0.37
A66: 9 | B66: 0.37 | C66: 0.37 | D66: 0.37 | E66: 0.37 | F66: 0.37 | G66: 0.37 | H66: 0.37 | I66: 0.37 | J66: 0.37 | K66: 0.37 | L66: 0.37
A67: 8 | B67: 0.37 | C67: 0.37 | D67: 0.37 | E67: 0.37 | F67: 0.37 | G67: 0.37 | H67: 0.37 | I67: 0.37 | J67: 0.37 | K67: 0.37 | L67: 0.37
A68: 7 | B68: 0.37 | C68: 0.37 | D68: 0.37 | E68: 0.37 | F68: 0.37 | G68: 0.37 | H68: 0.37 | I68: 0.37 | J68: 0.37 | K68: 0.37 | L68: 0.37
A69: 6 | B69: 0.37 | C69: 0.37 | D69: 0.37 | E69: 0.37 | F69: 0.37 | G69: 0.37 | H69: 0.37 | I69: 0.37 | J69: 0.37 | K69: 0.37 | L69: 0.37
A70: 5 | B70: 0.37 | C70: 0.37 | D70: 0.37 | E70: 0.37 | F70: 0.37 | G70: 0.37 | H70: 0.37 | I70: 0.37 | J70: 0.37 | K70: 0.37 | L70: 0.37
A71: 4 | B71: 0.37 | C71: 0.37 | D71: 0.37 | E71: 0.37 | F71: 0.37 | G71: 0.37 | H71: 0.37 | I71: 0.37 | J71: 0.37 | K71: 0.37 | L71: 0.37
A72: 3 | B72: 0.37 | C72: 0.37 | D72: 0.37 | E72: 0.37 | F72: 0.37 | G72: 0.37 | H72: 0.37 | I72: 0.37 | J72: 0.37 | K72: 0.37 | L72: 0.37
A73: 2 | B73: 0.344 | C73: 0.344 | D73: 0.344 | E73: 0.344 | F73: 0.344 | G73: 0.344 | H73: 0.344 | I73: 0.344 | J73: 0.344 | K73: 0.344 | L73: 0.344
A74: 1 | B74: 0.284 | C74: 0.284 | D74: 0.284 | E74: 0.284 | F74: 0.284 | G74: 0.284 | H74: 0.284 | I74: 0.284 | J74: 0.284 | K74: 0.284 | L74: 0.284
A75: 0 | B75: 0 | C75: 0 | D75: 0 | E75: 0 | F75: 0 | G75: 0 | H75: 0 | I75: 0 | J75: 0 | K75: 0 | L75: 0
B77: 12 | C77: 18 | D77: =C77+6 -> 24 | E77: =D77+6 -> 30 | F77: =E77+6 -> 36 | G77: =F77+6 -> 42 | H77: =G77+6 -> 48 | I77: =H77+6 -> 54 | J77: =I77+6 -> 60 | K77: =J77+6 -> 66 | L77: =K77+6 -> 72
B78: =SUM(B3:B75) -> 4.216 | C78: =SUM(C3:C75) -> 6.436 | D78: =SUM(D3:D75) -> 8.656 | E78: =SUM(E3:E75) -> 10.876 | F78: =SUM(F3:F75) -> 13.096 | G78: =SUM(G3:G75) -> 15.092 | H78: =SUM(H3:H75) -> 17.312 | I78: =SUM(I3:I75) -> 19.532 | ... L78: =SUM(L3:L75) -> 26.192
A80: Height | B80: 12 | C80: 18 | D80: =C80+6 -> 24 | E80: =D80+6 -> 30 | F80: =E80+6 -> 36 | G80: =F80+6 -> 42 | H80: =G80+6 -> 48 | I80: =H80+6 -> 54 | J80: =I80+6 -> 60 | K80: =J80+6 -> 66 | L80: =K80+6 -> 72
A81: 1st Layer | B81: 12 | C81: 18 | D81: 24 | E81: 30 | F81: 36 | G81: 24 | H81: 30 | I81: 36 | J81: 36 | K81: 36 | L81: 36
A82: 2nd Layer | B82: N/A | C82: N/A | D82: N/A | E82: N/A | F82: N/A | G82: 18 | H82: 18 | I82: 18 | J82: 24 | K82: 30 | L82: 36
