Workbook
Name DSI: #REF!
Name Section: INDIRECT('Volume Calculator'!#REF!)
Name SSI: #REF!

Sheet Volume Calculator
L3: Additional resources (CAD files, installation guidance, etc) available at:
L4: StormTank.com
AC5: Instructions for entering the footprint & perimeter of non-rectangular StormTank bed designs
A6: Inputs | B6: Project Name: | R6: Dimensions | S6: Module Bed Dimensions | AC6: 1. Layout StormTank Modules in CAD using rectangular blocks 18" wide and 36" long
U7: Footprint: | V7: 7497 | Z7: ft2 | AC7: 2. Outline the perimeter of the StormTank Module bed with a polyline
M8: Date: | U8: Perimeter: | V8: 396 | Z8: ft | AC8: 3. Enter the area and perimeter of the Modules bed polyline in the Footprint and Perimeter fields listed under Module Bed Dimensions
AC9: 4. Offset the Module bed polyline by the intended stone side fill width (12" minimum) to create the outline of the excavation footprint
S10: Excavation Footprint | AC10: 5. Enter the area and perimeter of the excavation footprint polyline in the Footprint and Perimeter fields listed under Excavation Footprint
S11: to Edge of Stone Backfill
U12: Footprint: | V12: 7897 | Z12: ft2
M13: Height of Modules: | N13: 36 | P13: in | U13: Perimeter: | V13: 404 | Z13: ft
B14: Stone Storage Included:
F15: All | N15: Stone Porosity: | O15: 0.4 | S15: Stone Backfill Dimensions
W16: Stone Below Modules: | X16: 6 | Z16: in
M17: Bottom of Stone Elevation: | N17: 101 | P17: ft | W17: Stone Above Modules: | X17: 12 | Z17: in
M19: Number of Observation Ports | N19: 5 | S19: Typical stone dimensions:
S20: 6" below, 12" above, 12" side fill
M21: Number of Pipe Inlets Requiring Debris Row Section: | N21: 2
I23: Add Impermeable Liner to System: | J23: No
B24: Typical StormTank design does not require an impermeable liner
A26: Results
P27: StormTank Part Quantities:
H28: Storage Volume in Modules Only: | I28: =SUM(K51:N305) -> 21817.936 | L28: ft3 | U28: Bottom Layer | W28: Top Layer | Y28: Total
H29: Storage Volume in Stone Backfill: | I29: =SUM(O51:R305) -> 5218.2 | L29: ft3
H30: Total Storage Volume Provided: | I30: =I28+I29 -> 27036.136 | L30: ft3 | P30: Module Height (in) | U30: =HLOOKUP($N$13,'Reference Data'!$B$80:$L$82,2) -> 36 | W30: =HLOOKUP($N$13,'Reference Data'!$B$80:$L$82,3) -> N/A | Y30: =N13 -> 36
P31: # of Modules | U31: =Computations!B3 -> 1666 | W31: =IF($W$30="N/A","N/A",Computations!B3) -> N/A | Y31: =IF($W$30="N/A",U31,U31+W31) -> 1666
I32: Required Stone Backfill: | J32: =Computations!L7 -> 484 | L32: yd3 | P32: # of Platens | U32: =U31*2 -> 3332 | W32: =IF($W$30="N/A","N/A",W31*2) -> N/A | Y32: =IF($W$30="N/A",U32,U32+W32) -> 3332
P33: # of Side Panels | U33: =Computations!D3+N21*15 -> 294 | W33: =IF($W$30="N/A","N/A",Computations!D3) -> N/A | Y33: =IF($W$30="N/A",U33,U33+W33) -> 294
I34: Estimated Geotextile - Outside of Modules | J34: =Computations!A11 -> 1998 | L34: yd2 | P34: # of Columns | U34: =U31*8 -> 13328 | W34: =IF($W$30="N/A","N/A",W31*8) -> N/A | Y34: =IF($W$30="N/A",U34,U34+W34) -> 13328
I35: Estimated Geotextile - Outside of Stone | J35: =Computations!B11 -> 2175 | L35: yd2 | P35: # of Stacking Pins | U35: =IF($W$30="N/A",0,U31*2) -> 0 | W35: N/A | Y35: =U35 -> 0
I36: Total Estimated Geotextile Fabric: | J36: =J35+J34 -> 4173 | L36: yd2 | P36: # of 10" Port Kit(s) | U36: =N19 -> 5 | W36: N/A | Y36: =U36 -> 5
I38: Estimated Impermeable Liner | J38: =Computations!C11+Computations!E11 -> 0 | L38: yd2
W39: Maximum Grade (96" from top of Module to grade): | X39: =$N$17+$X$16/12+$N$13/12+96/12 -> 112.5
W40: Min Grade (HS-25 Loading, 24" from top of Module to grade): | X40: =$N$17+$X$16/12+$N$13/12+24/12 -> 106.5
W41: Min Grade (HS-20 Loading, 21" from top of Module to grade): | X41: =$N$17+$X$16/12+$N$13/12+21/12 -> 106.25
W42: Top of Stone: | X42: =$N$17+$X$16/12+$N$13/12+$X$17/12 -> 105.5
W43: Top of Module: | X43: =$N$17+$X$16/12+$N$13/12 -> 104.5
W44: Bottom of Module: | X44: =$N$17+$X$16/12 -> 101.5
W45: Bottom of Stone: | X45: =$N$17 -> 101
A48: Stage Storage
...

Sheet Computations
A1: Module Footprint | B1: Module Count | C1: Module Perimeter | D1: Side Panel Count | E1: Module Height | F1: Module Capacity | G1: Total Module Storage Volume | H1: Volume of Module Bed | I1: Module Void Space
A2: ft2 | B2: # | C2: ft | D2: # | E2: in | F2: ft3 | G2: ft^3 | H2: ft^3 | I2: %
A3: ='Volume Calculator'!V7 -> 7497 | B3: =ROUNDDOWN(A3/4.5,0) -> 1666 | C3: ='Volume Calculator'!V8 -> 396 | D3: =C3/1.5 -> 264 | E3: ='Volume Calculator'!N13 -> 36 | F3: =HLOOKUP(E3,'Reference Data'!B77:L78,2) -> 13.096 | G3: =F3*B3 -> 21817.936 | H3: =E3*A3/12 -> 22491 | I3: =G3/H3 -> 0.97007407
A5: Stone Footprint | B5: Stone Perimeter | C5: Height from Bottom to Top of Stone | D5: Stone Porosity | E5: 100% System Volume to Outside of Stone | F5: Counted Stone Volume (Minus Top, Before Void Ratio) | G5: Counted Stone Volume (None) | H5: Counted Stone Volume (Minus Bottom, Before Void Ratio) | I5: Just Stone Volume at 100% Voids | J5: Stone Void % | K5: Counted Storage Volume in Stone with Void Ratio | L5: Required Stone Backfill
A6: ft2 | B6: ft | C6: ft | D6: % | E6: ft3 | F6: ft3 | G6: ft3 | H6: ft3 | I6: ft3 | L6: yd3
A7: ='Volume Calculator'!V12 -> 7897 | B7: ='Volume Calculator'!V13 -> 404 | C7: =('Volume Calculator'!N13+'Volume Calculator'!X16+'Volume Calculator'!X17)/12 -> 4.5 | D7: =IF('Volume Calculator'!J23<>"Yes - Outside of Modules",'Volume Calculator'!O15,0) -> 0.4 | E7: =A7*C7 -> 35536.5 | F7: =E7-(A7*'Volume Calculator'!X17/12) -> 27639.5 | G7: 0 | H7: =E7-(A7*'Volume Calculator'!X16/12) -> 31588 | I7: {=_xlfn.IFS('Volume Calculator'!F15="All",Computations!E7-Computations!H3,'Volume Calculator'!F15="Excluding Below",Computations!H7-Computations!H3,'Volume Calculator'!F15="Excluding Above",Computations!F7-Computations!H3,'Volume Calculator'!F15="None",0)} -> 13045.5 | J7: {=IF(AND('Volume Calculator'!J23<>"Yes - Outside of Modules",'Volume Calculator'!F15:I15<>"None"),'Volume Calculator'!O15,0)} -> 0.4 | K7: =I7*J7 -> 5218.2 | L7: =ROUNDUP((Computations!E7-Computations!H3)/27,0) -> 484
A9: Geotextile Around Modules | B9: Geotextile Around Stone | C9: Estimated Imp. Liner - Outside of Stone | E9: Estimated Imp. Liner - Outside of Modules
A10: yd2 | B10: yd2 | C10: yd2 | E10: yd2
A11: {=_xlfn.IFS('Volume Calculator'!J23="No",(ROUNDUP(((A3*2+C3*E3/12)/0.9)/9,0)),'Volume Calculator'!J23="Yes - Outside of Stone",(ROUNDUP(((A3*2+C3*E3/12)/0.9)/9,0)),'Volume Calculator'!J23="Yes - Outside of Modules",(ROUNDUP(((A3*2+C3*E3/12)/0.9)/9,0)*2))} -> 1998 | B11: {=_xlfn.IFS('Volume Calculator'!J23="No",(ROUNDUP(((A7*2+B7*C7)/0.9)/9,0)),'Volume Calculator'!J23="Yes - Outside of Stone",(ROUNDUP(((A7*2+B7*C7)/0.9)/9,0)*2),'Volume Calculator'!J23="Yes - Outside of Modules",(ROUNDUP(((A7*2+B7*C7)/0.9)/9,0)))} -> 2175 | C11: {=_xlfn.IFS('Volume Calculator'!J23="No",0,'Volume Calculator'!J23="Yes - Outside of Stone",(ROUNDUP(((A7*2+B7*C7)/0.9)/9,0)),'Volume Calculator'!J23="Yes - Outside of Modules",0)} -> 0 | E11: {=_xlfn.IFS('Volume Calculator'!J23="No",0,'Volume Calculator'!J23="Yes - Outside of Stone",0,'Volume Calculator'!J23="Yes - Outside of Modules",(ROUNDUP(((A3*2+C3*E3/12)/0.9)/9,0)))} -> 0

Sheet Reference Data
A1: Module Stage Storage Per Inch
A2: Height (in) | B2: 12 | C2: 18 | D2: =C2+6 -> 24 | E2: =D2+6 -> 30 | F2: =E2+6 -> 36 | G2: =F2+6 -> 42 | H2: =G2+6 -> 48 | I2: =H2+6 -> 54 | J2: =I2+6 -> 60 | K2: =J2+6 -> 66 | L2: =K2+6 -> 72
A3: 72 | L3: 0.284
A4: 71 | L4: 0.344
A5: 70 | L5: 0.37
A6: 69 | L6: 0.37
A7: 68 | L7: 0.37
A8: 67 | L8: 0.37
A9: 66 | K9: 0.284 | L9: 0.37
A10: 65 | K10: 0.344 | L10: 0.37
A11: 64 | K11: 0.37 | L11: 0.37
A12: 63 | K12: 0.37 | L12: 0.37
A13: 62 | K13: 0.37 | L13: 0.37
A14: 61 | K14: 0.37 | L14: 0.37
A15: 60 | J15: 0.284 | K15: 0.37 | L15: 0.37
A16: 59 | J16: 0.344 | K16: 0.37 | L16: 0.37
A17: 58 | J17: 0.37 | K17: 0.37 | L17: 0.37
A18: 57 | J18: 0.37 | K18: 0.37 | L18: 0.37
A19: 56 | J19: 0.37 | K19: 0.37 | L19: 0.37
A20: 55 | J20: 0.37 | K20: 0.37 | L20: 0.37
A21: 54 | I21: 0.284 | J21: 0.37 | K21: 0.37 | L21: 0.37
A22: 53 | I22: 0.344 | J22: 0.37 | K22: 0.37 | L22: 0.37
A23: 52 | I23: 0.37 | J23: 0.37 | K23: 0.37 | L23: 0.37
A24: 51 | I24: 0.37 | J24: 0.37 | K24: 0.37 | L24: 0.37
A25: 50 | I25: 0.37 | J25: 0.37 | K25: 0.37 | L25: 0.37
A26: 49 | I26: 0.37 | J26: 0.37 | K26: 0.37 | L26: 0.37
A27: 48 | H27: 0.284 | I27: 0.37 | J27: 0.37 | K27: 0.37 | L27: 0.37
A28: 47 | H28: 0.344 | I28: 0.37 | J28: 0.37 | K28: 0.37 | L28: 0.37
A29: 46 | H29: 0.37 | I29: 0.37 | J29: 0.37 | K29: 0.37 | L29: 0.37
A30: 45 | H30: 0.37 | I30: 0.37 | J30: 0.37 | K30: 0.37 | L30: 0.37
A31: 44 | H31: 0.37 | I31: 0.37 | J31: 0.37 | K31: 0.37 | L31: 0.37
A32: 43 | H32: 0.37 | I32: 0.37 | J32: 0.37 | K32: 0.37 | L32: 0.37
A33: 42 | G33: 0.284 | H33: 0.37 | I33: 0.37 | J33: 0.37 | K33: 0.37 | L33: 0.37
A34: 41 | G34: 0.344 | H34: 0.37 | I34: 0.37 | J34: 0.37 | K34: 0.37 | L34: 0.37
A35: 40 | G35: 0.37 | H35: 0.37 | I35: 0.37 | J35: 0.37 | K35: 0.37 | L35: 0.37
A36: 39 | G36: 0.37 | H36: 0.37 | I36: 0.37 | J36: 0.37 | K36: 0.37 | L36: 0.37
A37: 38 | G37: 0.37 | H37: 0.37 | I37: 0.37 | J37: 0.37 | K37: 0.37 | L37: 0.344
A38: 37 | G38: 0.37 | H38: 0.37 | I38: 0.37 | J38: 0.37 | K38: 0.37 | L38: 0.284
A39: 36 | F39: 0.284 | G39: 0.37 | H39: 0.37 | I39: 0.37 | J39: 0.37 | K39: 0.37 | L39: 0.284
A40: 35 | F40: 0.344 | G40: 0.37 | H40: 0.37 | I40: 0.37 | J40: 0.37 | K40: 0.37 | L40: 0.344
...
